BEGIN:VCALENDAR
VERSION:2.0
PRODID:-//Yii2 Events//EN
BEGIN:VEVENT
UID:69e7405904284@racunalnisko-drustvo.site.eventure.si
DTSTAMP:20260421T091609Z
DTSTART:20260515T160000
DTEND:20260517T160000
SUMMARY:Tečaj Tantra masaže Nova Gorica
DESCRIPTION:Tečaj Tantra Masaže - Nova Gorica 15.-17.05.2026
LOCATION:Center revitalizacije\, Delpinova ulica 22\, Nova Gorica\, Slovenija
URL:https://racunalnisko-drustvo.site.eventure.si/sl/event/tecaj-tantra-masaze-nova-gorica
END:VEVENT
END:VCALENDAR
