BEGIN:VCALENDAR
VERSION:2.0
PRODID:-//Yii2 Events//EN
BEGIN:VEVENT
UID:69e7780f3e5c4@racunalnisko-drustvo.site.eventure.si
DTSTAMP:20260421T131351Z
DTSTART:20251031T200000
DTEND:20251031T213000
SUMMARY:Srčna Gong Kopel LJUBLJANA 31.10. - PORAVNAVA 
DESCRIPTION:Pridružite se zvočni kopeli v Ljubljani 31. oktobra! Doživite globoko sprostitev in notranjo harmonijo skozi zvok.
LOCATION:Višja Vibracija\,  Ljubljana\, Ulica Andreja Bitenca 68\, Slovenia
URL:https://racunalnisko-drustvo.site.eventure.si/sl/event/srcna-gong-kopel-ljubljana-3110-poravnava
END:VEVENT
END:VCALENDAR
