BEGIN:VCALENDAR
VERSION:2.0
PRODID:-//Yii2 Events//EN
BEGIN:VEVENT
UID:69e78de6cd0b7@racunalnisko-drustvo.site.eventure.si
DTSTAMP:20260421T144702Z
DTSTART:20251115T200042
DTEND:20251115T210042
SUMMARY:Mistično zvočno potovanje z gongi 🎶🌌 ALTE
DESCRIPTION:Vabljeni na mistično zvočno potovanje z gongi\, kjer se spojita glasba in meditacija za globoko izkušnjo.
LOCATION:Mladinski center AIA Mengeš\, Slovenska cesta 28\, Mengeš\, Slovenia
URL:https://racunalnisko-drustvo.site.eventure.si/sl/event/misticno-zvocno-potovanje-z-gongi-alte-3
END:VEVENT
END:VCALENDAR
