BEGIN:VCALENDAR
VERSION:2.0
PRODID:-//Yii2 Events//EN
BEGIN:VEVENT
UID:69e7ce9ea5243@racunalnisko-drustvo.site.eventure.si
DTSTAMP:20260421T192310Z
DTSTART:20250704T150000
DTEND:20250706T170000
SUMMARY:KAMP MUSICA MEDICINA 2025 – 4. Festival Zvoka\, Giba in Srca 🎶❤️✨
DESCRIPTION:Pridružite se Kampu Musica Medicina 2025\, 4. Festivalu Zvoka\, Giba in Srca\, kjer boste doživeli edinstveno popotovanje skozi glasbo\, ples in skupnost v objemu narave. Vstopite v svet radosti\, meditacije in povezovanja!
LOCATION:Oaza Bitter\, Orla vas 8a\, Slovenia
URL:https://racunalnisko-drustvo.site.eventure.si/sl/event/kamp-musica-medicina-2025-4-festival-zvoka-giba-in-srca
END:VEVENT
END:VCALENDAR
