BEGIN:VCALENDAR
VERSION:2.0
PRODID:-//Yii2 Events//EN
BEGIN:VEVENT
UID:69e7cc07ebe07@racunalnisko-drustvo.site.eventure.si
DTSTAMP:20260421T191207Z
DTSTART:20250621T200000
DTEND:20250622T060000
SUMMARY:GONG PUJA *SOLSTICIJ* - Odpiranje svetlobe in notranjega miru
DESCRIPTION:Vabljeni na Gong Puja ob solsticiju! Praznujte svetlobo in notranji mir s celonočnim zvočnim potovanjem. Datum: 21. junij 2025.
LOCATION:Cvetkolandia\, Arja vas 45\, Petrovče\, Slovenia
URL:https://racunalnisko-drustvo.site.eventure.si/sl/event/gong-puja-solsticij-odpiranje-svetlobe-in-notranjega-miru
END:VEVENT
END:VCALENDAR
