BEGIN:VCALENDAR
VERSION:2.0
PRODID:-//Yii2 Events//EN
BEGIN:VEVENT
UID:69e6f95fc0ab9@racunalnisko-drustvo.site.eventure.si
DTSTAMP:20260421T041319Z
DTSTART:20260422T180000
DTEND:20260422T190000
SUMMARY:✨ DRAMILO ✨ 
DESCRIPTION:Pridružite se DRAMILU\, delavnici\, ki raziskuje življenjske izzive skozi žive postavitve. Izkušnje skupne ustvarjalnosti\, skupinsko delo\, individualne izkušje. Bogastvo skupne sreče. 
LOCATION:Črnuče\, Trzin\, gasilski dom nov\, Slovenia
URL:https://racunalnisko-drustvo.site.eventure.si/sl/event/dramilo-8
END:VEVENT
END:VCALENDAR
