BEGIN:VCALENDAR
VERSION:2.0
PRODID:-//Yii2 Events//EN
BEGIN:VEVENT
UID:69e6f8db066fc@racunalnisko-drustvo.site.eventure.si
DTSTAMP:20260421T041107Z
DTSTART:20260422T180000
DTEND:20260422T190000
SUMMARY:Tantra hatha joga - drop in vadba
DESCRIPTION:✨ Vadba Tantra Hatha Joge ✨Vabljeni na vadbo meditativne joge\, kjer boste lahko spoznali osnove Tantra Hatha Joge in jo tudi izkusili skozi vodeno prakso.
LOCATION:Spanda\, Pot heroja Trtnika 27\, Ljubljana\, Slovenija
URL:https://racunalnisko-drustvo.site.eventure.si/hr/event/tantra-hatha-joga-drop-in-vadba
END:VEVENT
END:VCALENDAR
