BEGIN:VCALENDAR
VERSION:2.0
PRODID:-//Yii2 Events//EN
BEGIN:VEVENT
UID:69e787fe736a4@racunalnisko-drustvo.site.eventure.si
DTSTAMP:20260421T142150Z
DTSTART:20251114T190000
DTEND:20251114T203000
SUMMARY:Srčna Gong Kopel - Tolmin 14.11. - MIR V SRCU
DESCRIPTION:Doživetje Srčne Gong Kopeli v Tolminu 14. novembra\, ki prinaša sprostitev in notranji mir pod vodstvom Boštjana Saniča.
LOCATION:Tornijeva dvorana\, KS Tolmin\, Rutarjeva ulica 5\, Slovenia
URL:https://racunalnisko-drustvo.site.eventure.si/hr/event/srcna-gong-kopel-tolmin-1411-mir-v-srcu
END:VEVENT
END:VCALENDAR
