BEGIN:VCALENDAR
VERSION:2.0
PRODID:-//Yii2 Events//EN
BEGIN:VEVENT
UID:69e7890b61259@racunalnisko-drustvo.site.eventure.si
DTSTAMP:20260421T142619Z
DTSTART:20251010T190000
DTEND:20251010T203000
SUMMARY:Srčna Gong Kopel - Tolmin 10.10 - PORAVNAVA
DESCRIPTION:Pridružite se zvočni kopeli Srčna Gong Kopel 'PORAVNAVA' v Tolminu 10. oktobra. Doživite globoko sprostitev in notranjo harmonijo preko zvočne terapije.
LOCATION:Tornijeva dvorana\, KS Tolmin\, Rutarjeva ulica 5\, Slovenia
URL:https://racunalnisko-drustvo.site.eventure.si/hr/event/srcna-gong-kopel-tolmin-1010-poravnava
END:VEVENT
END:VCALENDAR
