BEGIN:VCALENDAR
VERSION:2.0
PRODID:-//Yii2 Events//EN
BEGIN:VEVENT
UID:69e7a06bead94@racunalnisko-drustvo.site.eventure.si
DTSTAMP:20260421T160603Z
DTSTART:20251003T200000
DTEND:20251003T213000
SUMMARY:Srčna gong kopel - odpiranje srca LJUBLJANA
DESCRIPTION:Pridružite se Srčni gong kopeli v Ljubljani in odkrijte globoko sprostitev ter transformacijo. Odprite svoje srce z vibracijami gongov.
LOCATION:Višja Vibracija\,  Ljubljana\, Ulica Andreja Bitenca 68\, Slovenia
URL:https://racunalnisko-drustvo.site.eventure.si/hr/event/srcna-gong-kopel-odpiranje-srca-ljubljana-2
END:VEVENT
END:VCALENDAR
