BEGIN:VCALENDAR
VERSION:2.0
PRODID:-//Yii2 Events//EN
BEGIN:VEVENT
UID:69e7ce1f1f118@racunalnisko-drustvo.site.eventure.si
DTSTAMP:20260421T192103Z
DTSTART:20251018T180000
DTEND:20251018T200000
SUMMARY:Skupinska kundalini aktivacija
DESCRIPTION:Pridruži se skupinski kundalini aktivaciji\, prebudi svojo energijo in dvigni zavest. Doživi sprostitev in osebno rast.
LOCATION:Ljubljana\, Slovenia
URL:https://racunalnisko-drustvo.site.eventure.si/hr/event/skupinska-kundalini-aktivacija-6
END:VEVENT
END:VCALENDAR
