BEGIN:VCALENDAR
VERSION:2.0
PRODID:-//Yii2 Events//EN
BEGIN:VEVENT
UID:69e7ce0f74ca6@racunalnisko-drustvo.site.eventure.si
DTSTAMP:20260421T192047Z
DTSTART:20250707T190000
DTEND:20250707T210000
SUMMARY:Skupinska kundalini aktivacija
DESCRIPTION:Pridružite se nam pri aktivaciji Kundalini na 'Portalu 777'\, da prebujete svojo notranjo modrost in doživite duhovno obnovo.
LOCATION:Ljubljana\, Slovenia
URL:https://racunalnisko-drustvo.site.eventure.si/hr/event/skupinska-kundalini-aktivacija-3
END:VEVENT
END:VCALENDAR
