BEGIN:VCALENDAR
VERSION:2.0
PRODID:-//Yii2 Events//EN
BEGIN:VEVENT
UID:69e7a1a48031c@racunalnisko-drustvo.site.eventure.si
DTSTAMP:20260421T161116Z
DTSTART:20250906T000000
DTEND:20250913T140000
SUMMARY:Retreat: Plavanje in zdravljenje z delfini v Satayi
DESCRIPTION:Pridružite se tedenskemu umiku v Satayi\, kjer vas delfini in čarobnost Rdečega morja prebudijo. Doživite mir v naravi.
LOCATION:Koralni greben Sataya\, Sataya\, rdečo morje\, Egipt\, Slovenia
URL:https://racunalnisko-drustvo.site.eventure.si/hr/event/retreat-plavanje-in-zdravljenje-z-delfini-v-satayi
END:VEVENT
END:VCALENDAR
