BEGIN:VCALENDAR
VERSION:2.0
PRODID:-//Yii2 Events//EN
BEGIN:VEVENT
UID:69e7b7283a779@racunalnisko-drustvo.site.eventure.si
DTSTAMP:20260421T174304Z
DTSTART:20251014T190058
DTEND:20251014T210000
SUMMARY:Rapé krog in Šamansko bobnanje - poglobljena meditacija
DESCRIPTION:Pridružite se nam na poglobljenem meditativnem doživetju z rapé in šamanskim bobnanjem v Chakani. Povežite se s svojim notranjim jazom.
LOCATION:Center Chakana\, Cvetkova ulica 33\, Ljubljana\, Slovenia
URL:https://racunalnisko-drustvo.site.eventure.si/hr/event/rape-krog-in-samansko-bobnanje-poglobljena-meditacija-2
END:VEVENT
END:VCALENDAR
