BEGIN:VCALENDAR
VERSION:2.0
PRODID:-//Yii2 Events//EN
BEGIN:VEVENT
UID:69e785b4062fa@racunalnisko-drustvo.site.eventure.si
DTSTAMP:20260421T141204Z
DTSTART:20251008T200000
DTEND:20251008T210000
SUMMARY:Predstavitev šole Strasti ✨
DESCRIPTION:Pridružite se Šoli Strasti in prebudite svoj duh skozi osebno rast ter starodavno modrost. Doživite preobrazbo v varnem okolju.
LOCATION:Spletni događaj
URL:https://racunalnisko-drustvo.site.eventure.si/hr/event/predstavitev-sole-strasti
END:VEVENT
END:VCALENDAR
