BEGIN:VCALENDAR
VERSION:2.0
PRODID:-//Yii2 Events//EN
BEGIN:VEVENT
UID:69e7cb95755c3@racunalnisko-drustvo.site.eventure.si
DTSTAMP:20260421T191013Z
DTSTART:20250620T170000
DTEND:20250620T210000
SUMMARY:Praznuj poletni solsticij z nami
DESCRIPTION:Pridružite se nam pri praznovanju poletnega solsticija z zabavnimi aktivnostmi in druženjem. Uživajte v naravi\, glasbi in veseljju!
LOCATION:Ljubljana\, Slovenia
URL:https://racunalnisko-drustvo.site.eventure.si/hr/event/praznuj-poletni-solsticij-z-nami
END:VEVENT
END:VCALENDAR
