BEGIN:VCALENDAR
VERSION:2.0
PRODID:-//Yii2 Events//EN
BEGIN:VEVENT
UID:69e7b9fa6f968@racunalnisko-drustvo.site.eventure.si
DTSTAMP:20260421T175506Z
DTSTART:20260320T120000
DTEND:20260321T120000
SUMMARY:Praznovanje spomladanskega ekvinokcija (VRELO I PRELO)
DESCRIPTION:Dobrodošli na praznovanje novega leta\, astrološko gledano. Dogajalo se bo v rovinju\, na posestvu Limea\, ob limskem kanalu. 
LOCATION:Limea\, dobiš ob prijavi
URL:https://racunalnisko-drustvo.site.eventure.si/hr/event/praznovanje-spomladanskega-ekvinokcija-vrelo-i-prelo
END:VEVENT
END:VCALENDAR
