BEGIN:VCALENDAR
VERSION:2.0
PRODID:-//Yii2 Events//EN
BEGIN:VEVENT
UID:69e7a2295af19@racunalnisko-drustvo.site.eventure.si
DTSTAMP:20260421T161329Z
DTSTART:20251206T150000
DTEND:20251207T210000
SUMMARY:Postavitev notranje ženske in moškega - užitek #miklavžev popust
DESCRIPTION:Pridružite se nam na raziskovanju užitka\, notranjega ravnovesja in zdravljenja moških in ženskih energij. Vodi Anja.
LOCATION:Aurora\, Hruševska cesta 74\, Slovenia
URL:https://racunalnisko-drustvo.site.eventure.si/hr/event/postavitev-notranje-zenske-in-moskega-uzitek-miklavzev-popust
END:VEVENT
END:VCALENDAR
