BEGIN:VCALENDAR
VERSION:2.0
PRODID:-//Yii2 Events//EN
BEGIN:VEVENT
UID:69e6e055c6e69@racunalnisko-drustvo.site.eventure.si
DTSTAMP:20260421T022629Z
DTSTART:20260425T163000
DTEND:20260425T220000
SUMMARY:Delavnica: zdravljenje notranjega otroka
DESCRIPTION:Vabim te v prostor\, kjer se srečata jin in jang\, nežnost in stabilnost.\nDelavnica\, ki omogoča globoko zdravljenje notranjega otroka v občutku varnosti in sprejetosti.\nDelavnico vodiva Tina G. in Boštjan S.\nV Ljubljani\, 25.4. od 16.30 - 22h\nVeč o dogodku in prijava na gumbu spodaj.\nDobrodošli
LOCATION:Višja Vibracija\,  Ljubljana\, Ulica Andreja Bitenca 68\, Ljubljana\, Slovenija
URL:https://racunalnisko-drustvo.site.eventure.si/hr/event/delavnica-zdravljenje-notranjega-otroka
END:VEVENT
END:VCALENDAR
