BEGIN:VCALENDAR
VERSION:2.0
PRODID:-//Yii2 Events//EN
BEGIN:VEVENT
UID:69e785b380063@racunalnisko-drustvo.site.eventure.si
DTSTAMP:20260421T141203Z
DTSTART:20251011T150000
DTEND:20251011T200000
SUMMARY:13. RITUAL MATERNICE
DESCRIPTION:Pridruži se 13. Ritualu Maternice v soboto\, 11. oktobra. Sveti obred za ženske za povezovanje z močjo in kreativnostjo.
LOCATION:dvorana\, Avocado center\, Logatec\, Slovenia
URL:https://racunalnisko-drustvo.site.eventure.si/hr/event/13-ritual-maternice-2
END:VEVENT
END:VCALENDAR
