BEGIN:VCALENDAR
VERSION:2.0
PRODID:-//Yii2 Events//EN
BEGIN:VEVENT
UID:69e775dc7d595@racunalnisko-drustvo.site.eventure.si
DTSTAMP:20260421T130428Z
DTSTART:20250124T200000
DTEND:20250124T213000
SUMMARY:Srčna Gong kopel - Lepota Življenja LJUBLJANA
DESCRIPTION:Srčna Gong Kopel: Lepota Življenja Namen: Sproščanje in prepuščanje toku življenja ter zaznavanje lepote življenja! Kaj: Zvočna kopel z gongom in drugimi inštrumenti za globinsko čiščenje in uravnoteženje telesa ter duha.
LOCATION:Višja Vibracija\,  Ljubljana\, Ulica Andreja Bitenca 68\, Slovenia
URL:https://racunalnisko-drustvo.site.eventure.si/en/event/srcna-gong-kopel-lepota-zivljenja-ljubljana
END:VEVENT
END:VCALENDAR
