BEGIN:VCALENDAR
VERSION:2.0
PRODID:-//Yii2 Events//EN
BEGIN:VEVENT
UID:69e75a67aad64@racunalnisko-drustvo.site.eventure.si
DTSTAMP:20260421T110719Z
DTSTART:20260605T200000
DTEND:20260605T213000
SUMMARY:Srčna gong kopel - JUNIJ / Tolmin
DESCRIPTION:Srčna gong kopel - MAJ\, TOLMIN 5.6. ob 20h.\nGloboka sprostitev. Umiritev uma. Prizemljitev telesa.\nProstor\, kjer lahko samo si.
LOCATION:Tornijeva dvorana\, Rutarjeva 5\, Tolmin\, slo
URL:https://racunalnisko-drustvo.site.eventure.si/en/event/srcna-gong-kopel-junij-tolmin
END:VEVENT
END:VCALENDAR
