BEGIN:VCALENDAR
VERSION:2.0
PRODID:-//Yii2 Events//EN
BEGIN:VEVENT
UID:69e75ce4dc39a@racunalnisko-drustvo.site.eventure.si
DTSTAMP:20260421T111756Z
DTSTART:20251126T190000
DTEND:20251126T203000
SUMMARY:Srčna Gong Kopel - AJDOVŠČINA 26.11. - MIR V SRCU
DESCRIPTION:Pridružite se Zvočni Kopeli v Ajdovščini 26. novembra in poiščite mir v srcu skozi vibracije in zvok.
LOCATION:Hiša mladih\,  Cesta IV. prekomorske 61a\, Slovenia
URL:https://racunalnisko-drustvo.site.eventure.si/en/event/srcna-gong-kopel-ajdovscina-2611-mir-v-srcu
END:VEVENT
END:VCALENDAR
