BEGIN:VCALENDAR
VERSION:2.0
PRODID:-//Yii2 Events//EN
BEGIN:VEVENT
UID:69e7b92121603@racunalnisko-drustvo.site.eventure.si
DTSTAMP:20260421T175129Z
DTSTART:20251121T190000
DTEND:20251121T203000
SUMMARY:SKUPINSKA ZVOČNA KOPEL
DESCRIPTION:Pridruži se skupinski zvočni kopeli 21. novembra 2025\, izkusi globoko sprostitev in uravnovešanje energije skozi zvok.
LOCATION:podjetje TOPP\, dvorana v 1. nadstropju\, Gospodarska cona Škrjanče\, Škrjanče 31\, Ivančna Gorica\, Slovenia
URL:https://racunalnisko-drustvo.site.eventure.si/en/event/skupinska-zvocna-kopel-2
END:VEVENT
END:VCALENDAR
