BEGIN:VCALENDAR
VERSION:2.0
PRODID:-//Yii2 Events//EN
BEGIN:VEVENT
UID:69e7e3eae7c36@racunalnisko-drustvo.site.eventure.si
DTSTAMP:20260421T205402Z
DTSTART:20251017T190000
DTEND:20251017T210000
SUMMARY:Skupinska kundalini aktivacija
DESCRIPTION:Skupinska kundalini aktivacija s Petro. Odkrijte energijo in razvijajte notranji mir ter avtentičnost.
LOCATION:Logatec\, Slovenia
URL:https://racunalnisko-drustvo.site.eventure.si/en/event/skupinska-kundalini-aktivacija-5
END:VEVENT
END:VCALENDAR
