BEGIN:VCALENDAR
VERSION:2.0
PRODID:-//Yii2 Events//EN
BEGIN:VEVENT
UID:69e7b597c76dd@racunalnisko-drustvo.site.eventure.si
DTSTAMP:20260421T173623Z
DTSTART:20251004T140000
DTEND:20251004T200000
SUMMARY:Postavitev notranje ženske in moškega - užitek
DESCRIPTION:Pridružite se nam na raziskovanju užitka\, notranjega ravnovesja in zdravljenja moških in ženskih energij. Vodi Anja.
LOCATION:Eviana studio\, Slovenia
URL:https://racunalnisko-drustvo.site.eventure.si/en/event/postavitev-notranje-zenske-in-moskega-uzitek
END:VEVENT
END:VCALENDAR
