BEGIN:VCALENDAR
VERSION:2.0
PRODID:-//Yii2 Events//EN
BEGIN:VEVENT
UID:69e796acd683c@racunalnisko-drustvo.site.eventure.si
DTSTAMP:20260421T152428Z
DTSTART:20250726T160000
DTEND:20250726T210000
SUMMARY:POSTAVITEV NOTRANJE ŽENSKE IN MOŠKE ENERGIJE . IZKUSTVENA DELAVNICA
DESCRIPTION:Pridružite se nam na izkustveni delavnici\, kjer bomo raziskovali ravnovesje notranjih ženskih in moških energij. Transformacija vzorca vrednosti.
LOCATION:Ljubljana\, Vižmarje\, v naravi (natančna lokacija ob prijavi)\, Slovenia
URL:https://racunalnisko-drustvo.site.eventure.si/en/event/postavitev-notranje-zenske-in-moske-energije-izkustvena-delavnica
END:VEVENT
END:VCALENDAR
