BEGIN:VCALENDAR
VERSION:2.0
PRODID:-//Yii2 Events//EN
BEGIN:VEVENT
UID:69e7b43d055fc@racunalnisko-drustvo.site.eventure.si
DTSTAMP:20260421T173037Z
DTSTART:20251228T160000
DTEND:20251228T190000
SUMMARY:Polnjenje s svetlobo srca
DESCRIPTION:Pridruži se nam na srčno odprtem dogodku 28.12.2025 v Ljubljani. Doživi meditacijo in vaje za samoljubezen.
LOCATION:Hruševska cesta 74\, Slovenia
URL:https://racunalnisko-drustvo.site.eventure.si/en/event/polnjenje-s-svetlobo-srca
END:VEVENT
END:VCALENDAR
