BEGIN:VCALENDAR
VERSION:2.0
PRODID:-//Yii2 Events//EN
BEGIN:VEVENT
UID:69e7a0212b3b0@racunalnisko-drustvo.site.eventure.si
DTSTAMP:20260421T160449Z
DTSTART:20240831T110000
DTEND:20240901T230000
SUMMARY:Mystical Experience with AWARĖ\, MAOK\, Kailash Kokopelli & more
DESCRIPTION:Step into a realm of enchantment featuring talented musicians performing sacred world music and sound healing sessions. A boutique event with cacao ceremony\, breathwork\, yoga\, fire ceremony\, stick spinning workshops\, aromatherapy\, and face painting alongside musical performances.
LOCATION:Mažijev Grič\, Lake Gradišče\, Slovenia
URL:https://racunalnisko-drustvo.site.eventure.si/en/event/mystical-experience-aware-maok-kailash-kokopelli
END:VEVENT
END:VCALENDAR
