BEGIN:VCALENDAR
VERSION:2.0
PRODID:-//Yii2 Events//EN
BEGIN:VEVENT
UID:69e7e32020051@racunalnisko-drustvo.site.eventure.si
DTSTAMP:20260421T205040Z
DTSTART:20251121T190001
DTEND:20251018T210000
SUMMARY:Kundalini aktivacija
DESCRIPTION:Pridruži se skupinski kundalini aktivaciji\, prebudi svojo življenjsko energijo in dvigni zavest.
LOCATION:Logatec\, Slovenia
URL:https://racunalnisko-drustvo.site.eventure.si/en/event/kundalini-aktivacija
END:VEVENT
END:VCALENDAR
