BEGIN:VCALENDAR
VERSION:2.0
PRODID:-//Yii2 Events//EN
BEGIN:VEVENT
UID:69e78c3580bbd@racunalnisko-drustvo.site.eventure.si
DTSTAMP:20260421T143949Z
DTSTART:20250613T200000
DTEND:20250613T213000
SUMMARY:Klic duše - Srčna Gong Kopel TOLMIN
DESCRIPTION:Pridruži se Srčni Gong Kopeli "Klic duše" v Tolminu\, kjer z zvokom dosežemo notranji mir in povezanost s seboj. Odpiri srčno energijo junija!
LOCATION:Tornijeva dvorana\, KS Tolmin\, Rutarjeva ulica 5\, Slovenia
URL:https://racunalnisko-drustvo.site.eventure.si/en/event/klic-duse-srcna-gong-kopel-tolmin
END:VEVENT
END:VCALENDAR
