BEGIN:VCALENDAR
VERSION:2.0
PRODID:-//Yii2 Events//EN
BEGIN:VEVENT
UID:69e77bd2982ac@racunalnisko-drustvo.site.eventure.si
DTSTAMP:20260421T132954Z
DTSTART:20250829T180000
DTEND:20250829T190000
SUMMARY:Gong seansa v naravi ob zaključku poletja
DESCRIPTION:Vabljeni na sprostitev ob gongih in terapevtskih glasbilih 29.8. v Trbovljah. Zadnja seansa poletja za umirjen začetek septembra.
LOCATION:Slovenia
URL:https://racunalnisko-drustvo.site.eventure.si/en/event/gong-seansa-v-naravi-ob-zakljucku-poletja
END:VEVENT
END:VCALENDAR
