BEGIN:VCALENDAR
VERSION:2.0
PRODID:-//Yii2 Events//EN
BEGIN:VEVENT
UID:69e75d27719f8@racunalnisko-drustvo.site.eventure.si
DTSTAMP:20260421T111903Z
DTSTART:20250919T210000
DTEND:20250920T070000
SUMMARY:Celonočna GONG PUJA ENAKONOČJE
DESCRIPTION:Pridružite se nam na noči globokega zvočnega zdravljenja na Gong Puja ob enakonočju in sprejmite ravnovesje med svetlobo in temo.
LOCATION:Višja Vibracija\,  Ljubljana\, Ul. Andreja Bitenca 68\, Slovenia
URL:https://racunalnisko-drustvo.site.eventure.si/en/event/celonocna-gong-puja-enakonocje
END:VEVENT
END:VCALENDAR
