BEGIN:VCALENDAR
VERSION:2.0
PRODID:-//Yii2 Events//EN
BEGIN:VEVENT
UID:69e77d595d0fc@racunalnisko-drustvo.site.eventure.si
DTSTAMP:20260421T133625Z
DTSTART:20250606T090000
DTEND:20250615T180000
SUMMARY:3. festival nabiralništva
DESCRIPTION:Pridružite se nam na 3. Festivalu nabiralništva in odkrijte bogastvo narave okoli sebe! Uživajte v delavnicah\, kulinariki iz divjih rastlin in spoznavanju etike nabiralništva. 6.-8. junija 2025 v Ljubljani!
LOCATION:Pogačarjev trg\; Slovenija\, 6. - 8.6. Nabiralniške delavnice po celi Sloveniji\; 15.6. - osrednji dogodek na Pogačarjevem trgu v Ljubljani\, Slovenia
URL:https://racunalnisko-drustvo.site.eventure.si/en/event/3-festival-nabiralnistva
END:VEVENT
END:VCALENDAR
